BEGIN:VCALENDAR
VERSION:2.0
PRODID:-//Jumpin Entertainment - ECPv6.5.0//NONSGML v1.0//EN
CALSCALE:GREGORIAN
METHOD:PUBLISH
X-WR-CALNAME:Jumpin Entertainment
X-ORIGINAL-URL:https://jumpinentertainment.com
X-WR-CALDESC:Events for Jumpin Entertainment
REFRESH-INTERVAL;VALUE=DURATION:PT1H
X-Robots-Tag:noindex
X-PUBLISHED-TTL:PT1H
BEGIN:VTIMEZONE
TZID:America/New_York
BEGIN:DAYLIGHT
TZOFFSETFROM:-0500
TZOFFSETTO:-0400
TZNAME:EDT
DTSTART:20260308T070000
END:DAYLIGHT
BEGIN:STANDARD
TZOFFSETFROM:-0400
TZOFFSETTO:-0500
TZNAME:EST
DTSTART:20261101T060000
END:STANDARD
END:VTIMEZONE
BEGIN:VEVENT
DTSTART;TZID=America/New_York:20260515T190000
DTEND;TZID=America/New_York:20260515T223000
DTSTAMP:20260423T080110
CREATED:20260409T022735Z
LAST-MODIFIED:20260416T195240Z
UID:1385-1778871600-1778884200@jumpinentertainment.com
SUMMARY:RETRO DANCE PARTY Fri May 15
DESCRIPTION:TICKETS CLICK HERE \nRetro Dance Party at Redline Music Stage \n \n 
URL:https://jumpinentertainment.com/event/retro-dance-party-fri-may-15/
LOCATION:K1 SPEED Raceway\, 333 N BEDFORD RD\, Mount Kisco\, NY\, 10549\, United States
CATEGORIES:Public Events
ATTACH;FMTTYPE=image/jpeg:https://jumpinentertainment.com/wp-content/uploads/2026/04/Retro-dance-party-poster-design-WEB.jpg
END:VEVENT
BEGIN:VEVENT
DTSTART;TZID=America/New_York:20260517T160000
DTEND;TZID=America/New_York:20260517T183000
DTSTAMP:20260423T080110
CREATED:20260421T054752Z
LAST-MODIFIED:20260421T055316Z
UID:1407-1779033600-1779042600@jumpinentertainment.com
SUMMARY:CENTRAL PARK SWINGS Live Music Event
DESCRIPTION:https://lindyland.com/event/lindyland-swing-dance-spectacular-2/ \nSUNDAY MAY 17th is our planned LIVE MUSIC DANCE PARTY featuring MOLLY RYAN and THE PALOMAR JAZZ BAND! (rain date May 31)\nWith support from SiOCF THE SWiNG OUT COMMUNITY FUND\, our first LIVE BAND is slated for SUNDAY MAY 17th (rain date: MAY 31).  Thank you to the SW!NG OUT Community Fund for making this possible! We are honored to have been selected to receive support from the SW!NG OUT Community Fund in 2026. \n \nCentral Park Swings is an afternoon of music. Featuring Live Music and DJ’s that cater to Social Dancing. We play vintage and modern Swing\, Jump Blues\, Hot Jazz\, Latin Cha Chas and more\, Our Sunday events are held at King Jagiello Plaza. This stunning plaza in the round overlooks Turtle Pond  and Belvedere Castle.\n \nDANCE LESSON: during band breaks\nFREE ( $10 donation suggested)\nAll our events are weather permitting. Announcements will be made on the day of if a cancellation/postponement is necessary.\nOur King Jagiello statue plaza is a collaborative with Alex’s socials.\nMORE DETAILS on OFFICIAL WEBSITE\nhttps://centralparkswings.com \nDONATIONS accepted in person or online at venmo.com/Lindyland\nor EVENTBRITE
URL:https://jumpinentertainment.com/event/central-park-swings-live-music-event/
LOCATION:King Jagiello Plaza\, E 79th St East Side of the Turtle Pond\,\, New York\, NY\, 10024\, United States
CATEGORIES:Public Events
ATTACH;FMTTYPE=image/jpeg:https://jumpinentertainment.com/wp-content/uploads/2026/04/SUN-LIVE-MUSIC-2026-KINGJagiello-Central-Park-SwingsMollyRyanMay17SO.jpg
END:VEVENT
BEGIN:VEVENT
DTSTART;TZID=America/New_York:20260606T190000
DTEND;TZID=America/New_York:20260606T233000
DTSTAMP:20260423T080110
CREATED:20260421T050949Z
LAST-MODIFIED:20260421T051440Z
UID:1400-1780772400-1780788600@jumpinentertainment.com
SUMMARY:Lindyland Swing Dance Spectacular
DESCRIPTION:LINDYLAND Swing Dance Spectacular \n \n\nLindyland.com SwingRemix.com and Jumpin Entertainment presents:\nLINDYLAND a swing dance spectacular \n\n\n\nTICKETS AT EVENTBRITE (available starting APRIL 19th)\nLIVE MUSIC: TBA\nDJ: TBA\nEnjoy the dazzling atmosphere with nearly 2\,000 sq ft hardwood dance floor space\, stage and special dance workshop room. Drinks & Snacks Available
URL:https://jumpinentertainment.com/event/lindyland-swing-dance-spectacular-june6/
LOCATION:HUNGARIAN HOUSE\, 213 E 82nd St\, New York\, NY\, 10028\, United States
CATEGORIES:Public Events
ATTACH;FMTTYPE=image/jpeg:https://jumpinentertainment.com/wp-content/uploads/2026/04/Lindyland_HungarianHouse2026_DancePartyVERTICALweb1080.jpg
END:VEVENT
END:VCALENDAR